BEGIN:VCALENDAR
VERSION:2.0
PRODID:-//Ken-Dojo Kiel - ECPv5.2.1//NONSGML v1.0//EN
CALSCALE:GREGORIAN
METHOD:PUBLISH
X-WR-CALNAME:Ken-Dojo Kiel
X-ORIGINAL-URL:https://www.kendo-kiel.de
X-WR-CALDESC:Veranstaltungen für Ken-Dojo Kiel
BEGIN:VTIMEZONE
TZID:Europe/Berlin
BEGIN:DAYLIGHT
TZOFFSETFROM:+0100
TZOFFSETTO:+0200
TZNAME:CEST
DTSTART:20230326T010000
END:DAYLIGHT
BEGIN:STANDARD
TZOFFSETFROM:+0200
TZOFFSETTO:+0100
TZNAME:CET
DTSTART:20231029T010000
END:STANDARD
END:VTIMEZONE
BEGIN:VEVENT
DTSTART;VALUE=DATE:20230720
DTEND;VALUE=DATE:20230724
DTSTAMP:20260423T042111
CREATED:20230429T125608Z
LAST-MODIFIED:20230429T125608Z
UID:838-1689811200-1690156799@www.kendo-kiel.de
SUMMARY:Iaido Bundeslehrgang II vom 20. - 23. Juli 2023 in Würzburg
DESCRIPTION:Bundeslehrgang II\nvom 20. – 23. Juli 2023\nin Würzburg\nmit\nNorio FURUICHI kyoshi 8. dan\nmit Unterstützung von\nSylvia Ordynsky kyoshi 7. dan\nRené van Amersfoort kyoshi 7. dan\nDetlef Uedelhoven kyoshi 7. dan\nRudi Müller kyoshi 7. dan\nPeter Röder renshi 7. dan\nGiuseppe Piva renshi 7. dan\nVeranstalter: Deutscher Iaido Bund e.V. (DIaiB e.V.)\nAusrichter: Turnverein 1862 Unterdürrbach e.V. (Abteilung Iaido)\nÜbungsort: tectake ARENA\, Stettiner Str. 1\, 97072 Würzburg\nProgramm: ZNKR-Iaidō und koryū
URL:https://www.kendo-kiel.de/index.php/event/iaido-bundeslehrgang-ii-vom-20-23-juli-2023-in-wuerzburg/
END:VEVENT
END:VCALENDAR